BEGIN:VCALENDAR
VERSION:2.0
PRODID:-//wp-events-plugin.com//7.2.3.1//EN
TZID:Europe/Zurich
X-WR-TIMEZONE:Europe/Zurich
BEGIN:VEVENT
UID:435@sac-saas.ch
DTSTART;TZID=Europe/Zurich;VALUE=DATE:20250208
DTEND;TZID=Europe/Zurich;VALUE=DATE:20250209
DTSTAMP:20250203T195903Z
URL:https://sac-saas.ch/events/skitour-wenghorn-anmeldung-ab-08-01-2025/
SUMMARY:Skitour Wenghorn / Anmeldung ab 08.01.2025
DESCRIPTION:&nbsp\;\n\n\n\n\n\n\n\nSchwierigkeit\nWS / 4 Std.\n\n\nEckdaten
 \n1100 hm auf und ab\n\n\nAusrüstung\nSkitoureausrüstung komplett\n\n\nT
 reffpunkt\nWird gemeldet\n\n\nTeilnehmerzahl\n8\n\n\n\n&nbsp\;
CATEGORIES:SAC Tour
END:VEVENT
BEGIN:VTIMEZONE
TZID:Europe/Zurich
X-LIC-LOCATION:Europe/Zurich
BEGIN:STANDARD
DTSTART:20241027T020000
TZOFFSETFROM:+0200
TZOFFSETTO:+0100
TZNAME:CET
END:STANDARD
END:VTIMEZONE
END:VCALENDAR