BEGIN:VCALENDAR
VERSION:2.0
PRODID:-//wp-events-plugin.com//7.2.3.1//EN
TZID:Europe/Zurich
X-WR-TIMEZONE:Europe/Zurich
BEGIN:VEVENT
UID:102@sac-saas.ch
DTSTART;TZID=Europe/Zurich;VALUE=DATE:20230206
DTEND;TZID=Europe/Zurich;VALUE=DATE:20230207
DTSTAMP:20221210T120905Z
URL:https://sac-saas.ch/events/skitour-val-de-rechy/
SUMMARY:Skitour Val de Réchy / Anmeldung ab 21.01.2023
DESCRIPTION:&nbsp\;\n\n\n\nAnmeldung möglich ab:\n21.01.2023\, 07:00\n\n\n
 Schwierigkeit\nWS\n\n\nEckdaten\n ↑ 1000 Hm  ↓ 1500 Hm\n\n\nAusrüst
 ung\nSkitourenausrüstung komplett + MagicPass\n\n\nTreffpunkt\nwird bekan
 nt gegeben\n\n\nTeilnehmerzahl\n6 inkl TL\n\n\n\nWir starten in Grimentz u
 nd nehmen die Bahnen bis Becs de Bosson. Vom letzten Lift laufen wir zur C
 abane des Becs de Bosson\, wo wir uns ein Kaffee gönnen werden. Danach fo
 lgt die Abfahrt in Val de Rechy. Wir suchen uns den guten Schnee und schö
 ne Hänge aus. Falls wir motiviert sind gibt es vll ein paar kürzere Aufs
 tiege. Zuletzt steigen wir zum Col de la Brinta und fahren 1000 Hm bis zum
  Grimentz ab.
CATEGORIES:SAC Tour,Skitour
END:VEVENT
BEGIN:VTIMEZONE
TZID:Europe/Zurich
X-LIC-LOCATION:Europe/Zurich
BEGIN:STANDARD
DTSTART:20221030T020000
TZOFFSETFROM:+0200
TZOFFSETTO:+0100
TZNAME:CET
END:STANDARD
END:VTIMEZONE
END:VCALENDAR