BEGIN:VCALENDAR
VERSION:2.0
PRODID:-//wp-events-plugin.com//7.2.3.1//EN
TZID:Europe/Zurich
X-WR-TIMEZONE:Europe/Zurich
BEGIN:VEVENT
UID:20@sac-saas.ch
DTSTART;TZID=Europe/Zurich;VALUE=DATE:20230208
DTEND;TZID=Europe/Zurich;VALUE=DATE:20230209
DTSTAMP:20230206T121921Z
URL:https://sac-saas.ch/events/skitour-unterbaechgleischer-gaenderhorn-bel
 ap-je-nach-verhaeltnissen/
SUMMARY:Skitour Unterbächgleischer-Gänderhorn\, Belap (je nach Verhältni
 ssen) / Anmeldung ab 08.01.2023
DESCRIPTION:Leider muss ich die Tour aus gesundheitlichen Gründen absagen.
  Blockade / Entzündung im Rücken. Sorry.\n\n\n\nAnmeldung möglich ab:\n
 08.01.2023\, 07:00\n\n\nSchwierigkeit\nWS\n\n\nEckdaten\n ↑ 800 Hm  
 ↓ 1300 Hm -&gt\;\n\n\nAusrüstung\nSkitourenausrüsung komplett\n\n\nTre
 ffpunkt\nWird noch bekannt gegeben\n\n\nTeilnehmerzahl\n6 plus TL\n\n\n\nT
 L Beitrag CHF 15.00
CATEGORIES:SAC Tour,Skitour
END:VEVENT
BEGIN:VTIMEZONE
TZID:Europe/Zurich
X-LIC-LOCATION:Europe/Zurich
BEGIN:STANDARD
DTSTART:20221030T020000
TZOFFSETFROM:+0200
TZOFFSETTO:+0100
TZNAME:CET
END:STANDARD
END:VTIMEZONE
END:VCALENDAR