BEGIN:VCALENDAR
VERSION:2.0
PRODID:-//wp-events-plugin.com//7.2.3.1//EN
TZID:Europe/Zurich
X-WR-TIMEZONE:Europe/Zurich
BEGIN:VEVENT
UID:270@sac-saas.ch
DTSTART;TZID=Europe/Zurich;VALUE=DATE:20240211
DTEND;TZID=Europe/Zurich;VALUE=DATE:20240212
DTSTAMP:20240210T151620Z
URL:https://sac-saas.ch/events/skitour-tschawinerhorn-anmeldung-ab-26-01-2
 024/
SUMMARY:ABGESAGT - Skitour Tschawinerhorn/ Anmeldung ab 26.01.2024
DESCRIPTION:Text\n\n\n\nAnmeldung möglich ab:\n26.01.2024\n\n\nSchwierigke
 it\nWS+\n\n\nEckdaten\n1200 HM\n\n\nAusrüstung\nSkitour komplett\n\n\nTre
 ffpunkt\n\n\n\nTeilnehmerzahl\n6 inkl TL\n\n\n\n&nbsp\;
CATEGORIES:SAC Tour
END:VEVENT
BEGIN:VTIMEZONE
TZID:Europe/Zurich
X-LIC-LOCATION:Europe/Zurich
BEGIN:STANDARD
DTSTART:20231029T020000
TZOFFSETFROM:+0200
TZOFFSETTO:+0100
TZNAME:CET
END:STANDARD
END:VTIMEZONE
END:VCALENDAR