BEGIN:VCALENDAR
VERSION:2.0
PRODID:-//wp-events-plugin.com//7.2.3.1//EN
TZID:Europe/Zurich
X-WR-TIMEZONE:Europe/Zurich
BEGIN:VEVENT
UID:437@sac-saas.ch
DTSTART;TZID=Europe/Zurich;VALUE=DATE:20250301
DTEND;TZID=Europe/Zurich;VALUE=DATE:20250302
DTSTAMP:20250203T202003Z
URL:https://sac-saas.ch/events/skitour-tschawinerhorn-anmeldung-ab-01-02-2
 025/
SUMMARY:Skitour Tschawinerhorn / Anmeldung ab 01.02.2025
DESCRIPTION:&nbsp\;\n\n\n\n\n\n\n\nSchwierigkeit\nWS / 4 Std.\n\n\nEckdaten
 \n1200 hm auf und ab\n\n\nAusrüstung\nSkitourenausrüstung komplett\n\n\n
 Treffpunkt\nWird gemeldet\n\n\nTeilnehmerzahl\n8 inkl. TL\n\n\n\n&nbsp\;
CATEGORIES:SAC Tour
END:VEVENT
BEGIN:VTIMEZONE
TZID:Europe/Zurich
X-LIC-LOCATION:Europe/Zurich
BEGIN:STANDARD
DTSTART:20241027T020000
TZOFFSETFROM:+0200
TZOFFSETTO:+0100
TZNAME:CET
END:STANDARD
END:VTIMEZONE
END:VCALENDAR