BEGIN:VCALENDAR
VERSION:2.0
PRODID:-//wp-events-plugin.com//7.2.3.1//EN
TZID:Europe/Zurich
X-WR-TIMEZONE:Europe/Zurich
BEGIN:VEVENT
UID:303@sac-saas.ch
DTSTART;TZID=Europe/Zurich;VALUE=DATE:20240219
DTEND;TZID=Europe/Zurich;VALUE=DATE:20240220
DTSTAMP:20240217T053038Z
URL:https://sac-saas.ch/events/skitour-triftgraetji-anmeldung-ab-02-01-202
 4/
SUMMARY:Skitour Triftgrätji / Anmeldung ab 02.01.2024
DESCRIPTION:Diese Tour findet nicht statt. Kein Schnee. Wollte gerne in im 
 Saastal eine Alternative anbieten\, aber die Verhältnisse sind ungünstig
 .\n\nSorry\, Gruss Beat\n\n&nbsp\;\n\n\n\nAnmeldung möglich ab:\n02.01.20
 24\n\n\nSchwierigkeit\nWS\n\n\nEckdaten\nMit Seilbahn nach Hohsaas\, Abfah
 rt  Richtung Schwarzmies\, kurzer Aufstieg zur Lücke\, 40 Min. / Lange A
 bfahrt nach Saas-Grund\n\n\nAusrüstung\nSkitourenausrüstung komplett: Wi
 chtig Harscheisen\, Helm empfohlen\n\n\nTreffpunkt\n8.50 Uhr Talstation Se
 ilbahn Saas-Grund\n\n\nTeilnehmerzahl\n8\n\n\n\n&nbsp\;
CATEGORIES:SAC Tour,Skitour
END:VEVENT
BEGIN:VTIMEZONE
TZID:Europe/Zurich
X-LIC-LOCATION:Europe/Zurich
BEGIN:STANDARD
DTSTART:20231029T020000
TZOFFSETFROM:+0200
TZOFFSETTO:+0100
TZNAME:CET
END:STANDARD
END:VTIMEZONE
END:VCALENDAR