BEGIN:VCALENDAR
VERSION:2.0
PRODID:-//wp-events-plugin.com//7.2.3.1//EN
TZID:Europe/Zurich
X-WR-TIMEZONE:Europe/Zurich
BEGIN:VEVENT
UID:109@sac-saas.ch
DTSTART;TZID=Europe/Zurich;VALUE=DATE:20230305
DTEND;TZID=Europe/Zurich;VALUE=DATE:20230306
DTSTAMP:20230301T123552Z
URL:https://sac-saas.ch/events/skitour-triebtesee-licken-goms/
SUMMARY:Skitour Triebtesee-Licken\, Goms / Anmeldung ab 20.02.2023
DESCRIPTION:Tourenverschiebung!\n\nAchtung! Die Tour muss verschoben werden
 \, momentan ist noch nicht klar\, wann ich sie neu ansetzen kann. Die Verh
 ältnisse sind alles andere als gut und mir bleibt auch keine Alternative 
 \, die ich aus dem Ärmel zaubern könnte! Ich werde sobald ich mehr weiss
  informieren!\n\nDanke für euer Verständnis\n\n\n\nAnmeldung möglich ab
 :\n20.02.2023\, 07:00\n\n\nSchwierigkeit\nLeicht\n\n\nEckdaten\n ↑ 1000
  Hm  ↓1000Hm -&gt\; x h\n\n\nAusrüstung\nSkitourenausrüstung\n\n\nTre
 ffpunkt\n\n\n\nTeilnehmerzahl\n6\n\n\n\n&nbsp\;
CATEGORIES:SAC Tour,Skitour
END:VEVENT
BEGIN:VTIMEZONE
TZID:Europe/Zurich
X-LIC-LOCATION:Europe/Zurich
BEGIN:STANDARD
DTSTART:20221030T020000
TZOFFSETFROM:+0200
TZOFFSETTO:+0100
TZNAME:CET
END:STANDARD
END:VTIMEZONE
END:VCALENDAR