BEGIN:VCALENDAR
VERSION:2.0
PRODID:-//wp-events-plugin.com//7.2.3.1//EN
TZID:Europe/Zurich
X-WR-TIMEZONE:Europe/Zurich
BEGIN:VEVENT
UID:251@sac-saas.ch
DTSTART;TZID=Europe/Zurich;VALUE=DATE:20240210
DTEND;TZID=Europe/Zurich;VALUE=DATE:20240211
DTSTAMP:20240208T124501Z
URL:https://sac-saas.ch/events/skitour-torrenthorn-mauerhorn/
SUMMARY:ABGESAGT: Skitour Torrenthorn / Mauerhorn - Anmeldung ab 10.01.2024
DESCRIPTION:Aufgrund von Wetter und Lawinensituation kann leider die Tour n
 icht ausgeführt werden\n\n\n\nAnmeldung möglich ab:\n11.01.2024\n\n\nSch
 wierigkeit\nZS\n\n\nEckdaten\n ↑1200 Hm  ↓ 2450 Hm\n\n\nAusrüstung\
 n\n\n\nTreffpunkt\n\n\n\nTeilnehmerzahl\n\n\n\n\n&nbsp\;
CATEGORIES:SAC Tour,Skitour
END:VEVENT
BEGIN:VTIMEZONE
TZID:Europe/Zurich
X-LIC-LOCATION:Europe/Zurich
BEGIN:STANDARD
DTSTART:20231029T020000
TZOFFSETFROM:+0200
TZOFFSETTO:+0100
TZNAME:CET
END:STANDARD
END:VTIMEZONE
END:VCALENDAR