BEGIN:VCALENDAR
VERSION:2.0
PRODID:-//wp-events-plugin.com//7.2.3.1//EN
TZID:Europe/Zurich
X-WR-TIMEZONE:Europe/Zurich
BEGIN:VEVENT
UID:232@sac-saas.ch
DTSTART;TZID=Europe/Zurich;VALUE=DATE:20240224
DTEND;TZID=Europe/Zurich;VALUE=DATE:20240225
DTSTAMP:20240207T115010Z
URL:https://sac-saas.ch/events/skitour-torrenthorn-anmeldung-ab-10-02-2024
 /
SUMMARY:Skitour Torrenthorn / Anmeldung ab 10.02.2024
DESCRIPTION:Dieses Jahr war der SAC bereits mehrmals auf dem Torrenthorn . 
 Wir werden eine tolle Alternative finden . \n\n\n\nAnmeldung möglich ab:
 \n10.02.2024\n\n\nSchwierigkeit\nWS\n\n\nEckdaten\n+ 600 HM - 1600 Hm\n\n\
 nAusrüstung\nTourenausrüstung kompl.\n\n\nTreffpunkt\nSpäter\n\n\nTeiln
 ehmerzahl\n2 TL / 8 TN\n\n\n\n&nbsp\;
CATEGORIES:SAC Tour,Skitour
END:VEVENT
BEGIN:VTIMEZONE
TZID:Europe/Zurich
X-LIC-LOCATION:Europe/Zurich
BEGIN:STANDARD
DTSTART:20231029T020000
TZOFFSETFROM:+0200
TZOFFSETTO:+0100
TZNAME:CET
END:STANDARD
END:VTIMEZONE
END:VCALENDAR