BEGIN:VCALENDAR
VERSION:2.0
PRODID:-//wp-events-plugin.com//7.2.3.1//EN
TZID:Europe/Zurich
X-WR-TIMEZONE:Europe/Zurich
BEGIN:VEVENT
UID:36@sac-saas.ch
DTSTART;TZID=Europe/Zurich;VALUE=DATE:20230214
DTEND;TZID=Europe/Zurich;VALUE=DATE:20230215
DTSTAMP:20230213T180204Z
URL:https://sac-saas.ch/events/skitour-tochuhorn/
SUMMARY:Skitour Tochuhorn / Anmeldung ab 01.02.2023
DESCRIPTION:&nbsp\;\n\n\n\nAnmeldung möglich ab:\n01.02.2023\, 07:00\n\n\n
 Schwierigkeit\nWS+\n\n\nEckdaten\n ↑ 650 Hm  ↓ 650 Hm\n\n\nAusrüstu
 ng\nSkitourenausrüstung\n\n\nTreffpunkt\nwird kurz vorher bekannt gegeben
 \n\n\nTeilnehmerzahl\n6 inkl. TL Diana\n\n\n\n&nbsp\;
CATEGORIES:SAC Tour,Skitour
END:VEVENT
BEGIN:VTIMEZONE
TZID:Europe/Zurich
X-LIC-LOCATION:Europe/Zurich
BEGIN:STANDARD
DTSTART:20221030T020000
TZOFFSETFROM:+0200
TZOFFSETTO:+0100
TZNAME:CET
END:STANDARD
END:VTIMEZONE
END:VCALENDAR