BEGIN:VCALENDAR
VERSION:2.0
PRODID:-//wp-events-plugin.com//7.2.3.1//EN
TZID:Europe/Zurich
X-WR-TIMEZONE:Europe/Zurich
BEGIN:VEVENT
UID:329@sac-saas.ch
DTSTART;TZID=Europe/Zurich;VALUE=DATE:20240218
DTEND;TZID=Europe/Zurich;VALUE=DATE:20240219
DTSTAMP:20240216T184446Z
URL:https://sac-saas.ch/events/skitour-stockhorn-anmeldung-ab-03-02-2024/
SUMMARY:Skitour Stockhorn / Anmeldung ab 03.02.2024
DESCRIPTION:Skitour im Binntal\n\nDas Binntal ist ein sagenumwobenes Seiten
 tal des Goms. Es grenzt im Süden an Italien. Im Winter für Skitourengän
 ger eine Trouvaile\, im Sommer ein herrliches Wander und Hochtourengebiet 
 und auch Strahler kommen auf Ihre Rechnung. Wir werden auf das südlich ge
 legene Stockhorn gehen. Die Schneeverhältnisse sind für dieses Jahr an d
 iesem Ort recht gut und wir freuen uns auf eine Genusstour!\nWir werden ei
 ne gemütliche Tour machen\, damit vor allem die Geniesser auf Ihre Rechnu
 ng kommen! \n\n\n\n\n\n\n\nSchwierigkeit\nws\n\n\nEckdaten\nca. 1000 Höh
 enmeter\, Fahren in guten und schlechten Tiefschneekonditionen\n\n\nAusrü
 stung\nTourenskiausrüstung\, Harscheisen\, Lawinensuchgerät\, Lawinenson
 de\, Schaufel\, Sonnenbrille\, Verpflegung\, Trinken\n\n\nTreffpunkt\nVisp
 \, Parkplatz auf der Mauer (ehemaliger Migros PP) 06:00 Uhr\n\n\nTeilnehme
 rzahl\n7\n\n\n\n&nbsp\;
CATEGORIES:SAC Tour,Skitour
END:VEVENT
BEGIN:VTIMEZONE
TZID:Europe/Zurich
X-LIC-LOCATION:Europe/Zurich
BEGIN:STANDARD
DTSTART:20231029T020000
TZOFFSETFROM:+0200
TZOFFSETTO:+0100
TZNAME:CET
END:STANDARD
END:VTIMEZONE
END:VCALENDAR