BEGIN:VCALENDAR
VERSION:2.0
PRODID:-//wp-events-plugin.com//7.2.3.1//EN
TZID:Europe/Zurich
X-WR-TIMEZONE:Europe/Zurich
BEGIN:VEVENT
UID:359@sac-saas.ch
DTSTART;TZID=Europe/Zurich;VALUE=DATE:20241229
DTEND;TZID=Europe/Zurich;VALUE=DATE:20241230
DTSTAMP:20241118T161923Z
URL:https://sac-saas.ch/events/skitour-steghorn-anmeldung-ab-29-11-2024/
SUMMARY:Skitour Steghorn / Anmeldung ab 29.11.2024
DESCRIPTION:Skitour in Leukerbad: von der Bergstation Gemmi aufs Steghorn\n
 \n\n\nAnmeldung ab:\n29.11.2024\n\n\nSchwierigkeit\nL\n\n\nEckdaten\n1000 
 hm\n\n\nAusrüstung\nvollständige Skitourenausrüstung mit Harscheisen\n\
 n\nTreffpunkt\nwird vor der Tour vereinbart (WhatsApp Gruppe)\n\n\nTeilneh
 merzahl\n6\n\n\n\n&nbsp\;
CATEGORIES:SAC Tour
END:VEVENT
BEGIN:VTIMEZONE
TZID:Europe/Zurich
X-LIC-LOCATION:Europe/Zurich
BEGIN:STANDARD
DTSTART:20241027T020000
TZOFFSETFROM:+0200
TZOFFSETTO:+0100
TZNAME:CET
END:STANDARD
END:VTIMEZONE
END:VCALENDAR