BEGIN:VCALENDAR
VERSION:2.0
PRODID:-//wp-events-plugin.com//7.2.3.1//EN
TZID:Europe/Zurich
X-WR-TIMEZONE:Europe/Zurich
BEGIN:VEVENT
UID:101@sac-saas.ch
DTSTART;TZID=Europe/Zurich;VALUE=DATE:20230129
DTEND;TZID=Europe/Zurich;VALUE=DATE:20230130
DTSTAMP:20230116T201042Z
URL:https://sac-saas.ch/events/skitour-signalhorn/
SUMMARY:Skitour Signalhorn / Anmeldung ab 14.01.2023
DESCRIPTION:&nbsp\;\n\n\n\nAnmeldung möglich ab:\n14.01.2023\, 07:00\n\n\n
 Schwierigkeit\nWS+\n\n\nEckdaten\n ↑800 Hm  ↓ 1500 Hm\n\n\nAusrüstu
 ng\nSkitourenausrüstung komplett\n\n\nTreffpunkt\nWird bekanntgegeben\n\n
 \nTeilnehmerzahl\n8 inkl. 2 TL\n\n\n\nJe nach Schnee kann es Änderungen g
 eben Michi und Mario
CATEGORIES:SAC Tour,Skitour
END:VEVENT
BEGIN:VTIMEZONE
TZID:Europe/Zurich
X-LIC-LOCATION:Europe/Zurich
BEGIN:STANDARD
DTSTART:20221030T020000
TZOFFSETFROM:+0200
TZOFFSETTO:+0100
TZNAME:CET
END:STANDARD
END:VTIMEZONE
END:VCALENDAR