BEGIN:VCALENDAR
VERSION:2.0
PRODID:-//wp-events-plugin.com//7.2.3.1//EN
TZID:Europe/Zurich
X-WR-TIMEZONE:Europe/Zurich
BEGIN:VEVENT
UID:526@sac-saas.ch
DTSTART;TZID=Europe/Zurich;VALUE=DATE:20260301
DTEND;TZID=Europe/Zurich;VALUE=DATE:20260302
DTSTAMP:20260202T120809Z
URL:https://sac-saas.ch/events/skitour-signalhorn-anmeldung-ab-01-02-2026/
SUMMARY:Skitour Signalhorn / Anmeldung ab 01.02.2026
DESCRIPTION:Schöne Skitour mit fabelhafter Aussicht auf das Rhonetal und d
 ie Bietschhornpyramide.\n\n\n\nAnmeldung ab:\n01.02.2026\n\n\nSchwierigkei
 t\nWS+\n\n\nEckdaten\n780hm/1700hm\n\n\nAusrüstung\nkomplette Skitourenau
 srüstung\n\n\nTreffpunkt\nfolgt\n\n\nTeilnehmerzahl\n6 inkl. TL\n\n\n\n&n
 bsp\;
CATEGORIES:SAC Tour,Skitour
END:VEVENT
BEGIN:VTIMEZONE
TZID:Europe/Zurich
X-LIC-LOCATION:Europe/Zurich
BEGIN:STANDARD
DTSTART:20251026T020000
TZOFFSETFROM:+0200
TZOFFSETTO:+0100
TZNAME:CET
END:STANDARD
END:VTIMEZONE
END:VCALENDAR