BEGIN:VCALENDAR
VERSION:2.0
PRODID:-//wp-events-plugin.com//7.2.3.1//EN
TZID:Europe/Zurich
X-WR-TIMEZONE:Europe/Zurich
BEGIN:VEVENT
UID:236@sac-saas.ch
DTSTART;TZID=Europe/Zurich;VALUE=DATE:20240223
DTEND;TZID=Europe/Zurich;VALUE=DATE:20240224
DTSTAMP:20240212T202916Z
URL:https://sac-saas.ch/events/skitour-pointe-des-grands-16-02-2024-anmeld
 ung-ab-01-02-2024/
SUMMARY:Terminänderung-Skitour Pointe des Grands 16.02.2024\, verschoben a
 uf 23.02.2024
DESCRIPTION:Die Pointe des Grands 3101m befindet sich an der Grenze zu Fran
 kreich. Wir werden in Trient (1300 m.ü.M.) starten\, um den Gipfel zu err
 eichen.\n\n\n\nAnmeldung möglich ab:\n01.02.2024\n\n\nSchwierigkeit\nZS\n
 \n\nEckdaten\n1800 hm\n\n\nAusrüstung\nSkitourenausrüstung\n\n\nTreffpun
 kt\nfrühe Abfahrt im Saas\n\n\nTeilnehmerzahl\n4 inkl. TL Diana\n\n\n\n&n
 bsp\;
CATEGORIES:SAC Tour
END:VEVENT
BEGIN:VTIMEZONE
TZID:Europe/Zurich
X-LIC-LOCATION:Europe/Zurich
BEGIN:STANDARD
DTSTART:20231029T020000
TZOFFSETFROM:+0200
TZOFFSETTO:+0100
TZNAME:CET
END:STANDARD
END:VTIMEZONE
END:VCALENDAR