BEGIN:VCALENDAR
VERSION:2.0
PRODID:-//wp-events-plugin.com//7.2.3.1//EN
TZID:Europe/Zurich
X-WR-TIMEZONE:Europe/Zurich
BEGIN:VEVENT
UID:576@sac-saas.ch
DTSTART;TZID=Europe/Zurich;VALUE=DATE:20251222
DTEND;TZID=Europe/Zurich;VALUE=DATE:20251223
DTSTAMP:20251221T204802Z
URL:https://sac-saas.ch/events/skitour-pointe-de-menouve-anmeldung-ab-01-1
 2-2025/
SUMMARY:Skitour Pointe de Menouve/ Anmeldung ab 01.12.2025
DESCRIPTION:Verschoben wegen Verhältnisse und Wetter\n\nDer Gipfel befinde
 t sich auf dem schweizerisch-italienischen Grenzkamm oberhalb von Bourg-Sa
 int-Bernard. Der Zugang zu diesem Gipfel wird durch die Straße über den 
 Grand-St. Bernhard-Pass erleichtert. Gute Verhälntisse oft schon zu Saiso
 nbeginn. Seit der Schließung der Skilifte von Super-Saint-Bernard bietet 
 die Pointe de Menouve mehrere Skitourenmöglichkeiten.\n\n\n\nAnmeldung ab
 :\n01.12.25\n\n\nSchwierigkeit\nWS\n\n\nEckdaten\n900 Hm\n\n\nAusrüstung\
 nVollständige Skitourenausrüstung inkl. Harscheisen\n\n\nTreffpunkt\nWir
 d vor der Tour per WhatsApp Gruppe kommuniziert\n\n\nTeilnehmerzahl\n6 ink
 l. TL\n\n\n\n&nbsp\;
CATEGORIES:SAC Tour,Skitour
END:VEVENT
BEGIN:VTIMEZONE
TZID:Europe/Zurich
X-LIC-LOCATION:Europe/Zurich
BEGIN:STANDARD
DTSTART:20251026T020000
TZOFFSETFROM:+0200
TZOFFSETTO:+0100
TZNAME:CET
END:STANDARD
END:VTIMEZONE
END:VCALENDAR