BEGIN:VCALENDAR
VERSION:2.0
PRODID:-//wp-events-plugin.com//7.2.3.1//EN
TZID:Europe/Zurich
X-WR-TIMEZONE:Europe/Zurich
BEGIN:VEVENT
UID:259@sac-saas.ch
DTSTART;TZID=Europe/Zurich;VALUE=DATE:20240128
DTEND;TZID=Europe/Zurich;VALUE=DATE:20240129
DTSTAMP:20231121T180610Z
URL:https://sac-saas.ch/events/skitour-pointe-de-la-tsevalire-anmeldung-ab
 -28-12-2023/
SUMMARY:Skitour Pointe de la Tsevalire / Anmeldung ab 28.12.2023
DESCRIPTION:St. Martin - Pas de Lovegno - Pointe de la Tsevalire\n\n\n\nAnm
 eldung möglich ab:\n28.12.2023\n\n\nSchwierigkeit\nL\n\n\nEckdaten\n1600 
 hm\n\n\nAusrüstung\nkomplette Skitourenausrüstung inkl. Harscheisen\n\n\
 nTreffpunkt\n\n\n\nTeilnehmerzahl\n6\n\n\n\n&nbsp\;
CATEGORIES:SAC Tour
END:VEVENT
BEGIN:VTIMEZONE
TZID:Europe/Zurich
X-LIC-LOCATION:Europe/Zurich
BEGIN:STANDARD
DTSTART:20231029T020000
TZOFFSETFROM:+0200
TZOFFSETTO:+0100
TZNAME:CET
END:STANDARD
END:VTIMEZONE
END:VCALENDAR