BEGIN:VCALENDAR
VERSION:2.0
PRODID:-//wp-events-plugin.com//7.2.3.1//EN
TZID:Europe/Zurich
X-WR-TIMEZONE:Europe/Zurich
BEGIN:VEVENT
UID:393@sac-saas.ch
DTSTART;TZID=Europe/Zurich;VALUE=DATE:20250216
DTEND;TZID=Europe/Zurich;VALUE=DATE:20250217
DTSTAMP:20250204T114121Z
URL:https://sac-saas.ch/events/skitour-pic-dartsinol-anmeldung-ab-01-02-20
 25/
SUMMARY:Skitour Pic d'Artsinol / Anmeldung ab 01.02.2025
DESCRIPTION:&nbsp\;\n\n\n\nAnmeldung ab:\n01.02.2025\n\n\nSchwierigkeit\nWS
 \n\n\nEckdaten\nHm: +1'400 / -1'400\n\n\nAusrüstung\nSkitourenausrüstung
  komplett inkl. Harscheisen\n\n\nTreffpunkt\ntbd\n\n\nTeilnehmerzahl\n6\n\
 n\n\n&nbsp\;
CATEGORIES:SAC Tour
END:VEVENT
BEGIN:VTIMEZONE
TZID:Europe/Zurich
X-LIC-LOCATION:Europe/Zurich
BEGIN:STANDARD
DTSTART:20241027T020000
TZOFFSETFROM:+0200
TZOFFSETTO:+0100
TZNAME:CET
END:STANDARD
END:VTIMEZONE
END:VCALENDAR