BEGIN:VCALENDAR
VERSION:2.0
PRODID:-//wp-events-plugin.com//7.2.3.1//EN
TZID:Europe/Zurich
X-WR-TIMEZONE:Europe/Zurich
BEGIN:VEVENT
UID:105@sac-saas.ch
DTSTART;TZID=Europe/Zurich;VALUE=DATE:20230219
DTEND;TZID=Europe/Zurich;VALUE=DATE:20230220
DTSTAMP:20230121T193232Z
URL:https://sac-saas.ch/events/skitour-pas-de-lona/
SUMMARY:Skitour Pas de Lona / Anmeldung ab 04.02.2023
DESCRIPTION:&nbsp\;\n\n\n\nAnmeldung möglich ab:\n04.02.2023\, 07:00\n\n\n
 Schwierigkeit\nWS+\n\n\nEckdaten\n ↑ 1100 Hm  ↓ 1100 Hm -&gt\; x h\n
 \n\nAusrüstung\nTourenausrüstung komplett\n\n\nTreffpunkt\nSpäter\n\n\n
 Teilnehmerzahl\n8\n\n\n\nJe nach Schnee gibt es Änderungen Michi und Mari
 o
CATEGORIES:SAC Tour,Skitour
END:VEVENT
BEGIN:VTIMEZONE
TZID:Europe/Zurich
X-LIC-LOCATION:Europe/Zurich
BEGIN:STANDARD
DTSTART:20221030T020000
TZOFFSETFROM:+0200
TZOFFSETTO:+0100
TZNAME:CET
END:STANDARD
END:VTIMEZONE
END:VCALENDAR