BEGIN:VCALENDAR
VERSION:2.0
PRODID:-//wp-events-plugin.com//7.2.3.1//EN
TZID:Europe/Zurich
X-WR-TIMEZONE:Europe/Zurich
BEGIN:VEVENT
UID:108@sac-saas.ch
DTSTART;TZID=Europe/Zurich;VALUE=DATE:20230304
DTEND;TZID=Europe/Zurich;VALUE=DATE:20230305
DTSTAMP:20230228T180638Z
URL:https://sac-saas.ch/events/skitour-pas-de-boeuf/
SUMMARY:Skitour Pas de Boeuf / Anmeldung ab 04.02.2023
DESCRIPTION:Liebe Teilnehmende\, leider muss ich die Tour am 04.03.2023 üb
 er den Pas de Boeuf absagen. Im Gebiet liegt nur sehr wenig Schnee. Eine A
 bfahrt durch das Bortertal wäre so viel zu gefährlich und ab dem Ort gen
 annt zer Pletschu ist alles ausgeapert. Ich werde die Tour in der kommende
 n Saison 23/24 nochmals ausschreiben.  Danke für euer Verständnis. Grus
 s André\n\n&nbsp\;\n\n\n\nAnmeldung möglich ab:\n04.02.2023\, 07:00\n\n\
 nSchwierigkeit\nWS\n\n\nEckdaten\n ↑ xxx Hm  ↓ xxx Hm -&gt\; x h\n\n
 \nAusrüstung\n\n\n\nTreffpunkt\n\n\n\nTeilnehmerzahl\n6\n\n\n\n&nbsp\;
CATEGORIES:SAC Tour,Skitour
END:VEVENT
BEGIN:VTIMEZONE
TZID:Europe/Zurich
X-LIC-LOCATION:Europe/Zurich
BEGIN:STANDARD
DTSTART:20221030T020000
TZOFFSETFROM:+0200
TZOFFSETTO:+0100
TZNAME:CET
END:STANDARD
END:VTIMEZONE
END:VCALENDAR