BEGIN:VCALENDAR
VERSION:2.0
PRODID:-//wp-events-plugin.com//7.2.3.1//EN
TZID:Europe/Zurich
X-WR-TIMEZONE:Europe/Zurich
BEGIN:VEVENT
UID:414@sac-saas.ch
DTSTART;TZID=Europe/Zurich;VALUE=DATE:20250414
DTEND;TZID=Europe/Zurich;VALUE=DATE:20250415
DTSTAMP:20250413T103414Z
URL:https://sac-saas.ch/events/skitour-ovronnaz-cabane-rambert-anmeldung-a
 b-12-02-25/
SUMMARY:Skitour vom 11.02. / Definitiv - nach 4 verschobenen Daten - abgesa
 gt
DESCRIPTION:Wir versuchen es nächsten Winter nochmals mit der Dienstagstou
 r.\n\n\n\n\n\n\n\nSchwierigkeit\nWS+\n\n\nEckdaten\n1270m ↑↓\n\n\nAusr
 üstung\nSkitourenausrüstung komplett\n\n\nTreffpunkt\nwird kurzfristig b
 ekannt gegeben\n\n\nTeilnehmerzahl\n6 inkl.TL\n\n\n\n&nbsp\;
CATEGORIES:SAC Tour
END:VEVENT
BEGIN:VTIMEZONE
TZID:Europe/Zurich
X-LIC-LOCATION:Europe/Zurich
BEGIN:DAYLIGHT
DTSTART:20250330T030000
TZOFFSETFROM:+0100
TZOFFSETTO:+0200
TZNAME:CEST
END:DAYLIGHT
END:VTIMEZONE
END:VCALENDAR