BEGIN:VCALENDAR
VERSION:2.0
PRODID:-//wp-events-plugin.com//7.2.3.1//EN
TZID:Europe/Zurich
X-WR-TIMEZONE:Europe/Zurich
BEGIN:VEVENT
UID:378@sac-saas.ch
DTSTART;TZID=Europe/Zurich;VALUE=DATE:20250328
DTEND;TZID=Europe/Zurich;VALUE=DATE:20250329
DTSTAMP:20250212T171628Z
URL:https://sac-saas.ch/events/skitour-ofentalhorn-anmeldung-ab-18-01-2025
 /
SUMMARY:Verschoben - Skitour Ofentalhorn / Anmeldung ab 18.01.2025
DESCRIPTION:&nbsp\;\n\n\n\n\n\n\n\nSchwierigkeit\nZS\n\n\nEckdaten\n1500 HM
 \n\n\nAusrüstung\nSkitouren komplett\n\n\nTreffpunkt\nZermeiggern\n\n\nTe
 ilnehmerzahl6\n 6 inkl TL\n\n\n\n&nbsp\;
CATEGORIES:SAC Tour
END:VEVENT
BEGIN:VTIMEZONE
TZID:Europe/Zurich
X-LIC-LOCATION:Europe/Zurich
BEGIN:STANDARD
DTSTART:20241027T020000
TZOFFSETFROM:+0200
TZOFFSETTO:+0100
TZNAME:CET
END:STANDARD
END:VTIMEZONE
END:VCALENDAR