BEGIN:VCALENDAR
VERSION:2.0
PRODID:-//wp-events-plugin.com//7.2.3.1//EN
TZID:Europe/Zurich
X-WR-TIMEZONE:Europe/Zurich
BEGIN:VEVENT
UID:235@sac-saas.ch
DTSTART;TZID=Europe/Zurich;VALUE=DATE:20240130
DTEND;TZID=Europe/Zurich;VALUE=DATE:20240131
DTSTAMP:20231122T171544Z
URL:https://sac-saas.ch/events/skitour-ochsehorn-30-01-2024-anmeldung-ab-0
 2-01-2024/
SUMMARY:Skitour Ochsehorn 30.01.2024 / Anmeldung ab 02.01.2024
DESCRIPTION:Das Ochsehorn möchte ich von Visperterminen ab Ende Skilift er
 reichen. Die Tour wird der Schneesituation angepasst\, d.h. Anpassungen/Ä
 nderungen sind möglich.\n\n\n\nAnmeldung möglich ab:\n02.01.2024\n\n\nSc
 hwierigkeit\nWS\n\n\nEckdaten\n750/1400\n\n\nAusrüstung\nSkitourenausrüs
 tung komplett\, ev Steigeisen\, Magicpass falls vorhanden\n\n\nTreffpunkt\
 nwird kurz vorher bekannt gegeben\n\n\nTeilnehmerzahl\n6 inkl TL Diana\n\n
 \n\n&nbsp\;
CATEGORIES:SAC Tour
END:VEVENT
BEGIN:VTIMEZONE
TZID:Europe/Zurich
X-LIC-LOCATION:Europe/Zurich
BEGIN:STANDARD
DTSTART:20231029T020000
TZOFFSETFROM:+0200
TZOFFSETTO:+0100
TZNAME:CET
END:STANDARD
END:VTIMEZONE
END:VCALENDAR