BEGIN:VCALENDAR
VERSION:2.0
PRODID:-//wp-events-plugin.com//7.2.3.1//EN
TZID:Europe/Zurich
X-WR-TIMEZONE:Europe/Zurich
BEGIN:VEVENT
UID:50@sac-saas.ch
DTSTART;TZID=Europe/Zurich;VALUE=DATE:20230319
DTEND;TZID=Europe/Zurich;VALUE=DATE:20230320
DTSTAMP:20230121T195246Z
URL:https://sac-saas.ch/events/skitour-ober-rappehorn/
SUMMARY:Skitour Ober Rappehorn / Anmeldung ab 19.02.2023
DESCRIPTION:&nbsp\;\n\n\n\nAnmeldung möglich ab:\n19.02.2023\, 07:00\n\n\n
 Schwierigkeit\nWS+\n\n\nEckdaten\n ↑ 1'700 Hm  ↓ 1'700 Hm -&gt\; 8 h
 \n\n\nAusrüstung\nSkitourenausrüstung komplett\n\n\nTreffpunkt\nfolgt\n\
 n\nTeilnehmerzahl\n6\n\n\n\n&nbsp\;
CATEGORIES:SAC Tour,Skitour
END:VEVENT
BEGIN:VTIMEZONE
TZID:Europe/Zurich
X-LIC-LOCATION:Europe/Zurich
BEGIN:STANDARD
DTSTART:20221030T020000
TZOFFSETFROM:+0200
TZOFFSETTO:+0100
TZNAME:CET
END:STANDARD
END:VTIMEZONE
END:VCALENDAR