BEGIN:VCALENDAR
VERSION:2.0
PRODID:-//wp-events-plugin.com//7.2.3.1//EN
TZID:Europe/Zurich
X-WR-TIMEZONE:Europe/Zurich
BEGIN:VEVENT
UID:277@sac-saas.ch
DTSTART;TZID=Europe/Zurich;VALUE=DATE:20240317
DTEND;TZID=Europe/Zurich;VALUE=DATE:20240318
DTSTAMP:20240128T092313Z
URL:https://sac-saas.ch/events/skitour-ober-rappehorn-ab-ernen/
SUMMARY:Skitour Ober Rappehorn ab Ernen / Anmeldung ab 01.02.2024
DESCRIPTION:Text\n\n\n\nAnmeldung möglich ab:\n01.03.2024\n\n\nSchwierigke
 it\nWS\n\n\nEckdaten\n↑ 1'700 Hm ↓1'700Hm\n\n\nAusrüstung\nkomplette 
 Skitourenausrüstung\n\n\nTreffpunkt\nwird bekannt gegeben\n\n\nTeilnehmer
 zahl\n6 inkl. TL\n\n\n\n&nbsp\;
CATEGORIES:SAC Tour,Skitour
END:VEVENT
BEGIN:VTIMEZONE
TZID:Europe/Zurich
X-LIC-LOCATION:Europe/Zurich
BEGIN:STANDARD
DTSTART:20231029T020000
TZOFFSETFROM:+0200
TZOFFSETTO:+0100
TZNAME:CET
END:STANDARD
END:VTIMEZONE
END:VCALENDAR