BEGIN:VCALENDAR
VERSION:2.0
PRODID:-//wp-events-plugin.com//7.2.3.1//EN
TZID:Europe/Zurich
X-WR-TIMEZONE:Europe/Zurich
BEGIN:VEVENT
UID:66@sac-saas.ch
DTSTART;TZID=Europe/Zurich;VALUE=DATE:20230311
DTEND;TZID=Europe/Zurich;VALUE=DATE:20230312
DTSTAMP:20230121T194951Z
URL:https://sac-saas.ch/events/skitour-niwen-westgipfel/
SUMMARY:Skitour Niwen Westgipfel / Anmeldung ab 11.02.2023
DESCRIPTION:Ab Engersch durch den Wald hoch zur Niwenalp. Danach über sch
 öne\, offene Hänge nie allzu steil  zum Hohle Stei. Schlussanstieg zum 
 Westgipfel des Niwen 2715m. Abfahrt via Aufstieg nach Engersch.\n\n\n\nAnm
 eldung möglich ab:\n11.02.2023\, 07:00\n\n\nSchwierigkeit\nWS\n\n\nEckdat
 en\n ↑ 1200 Hm  ↓ 1200 Hm -&gt\; 4 h\n\n\nAusrüstung\nSkitourenausr
 üstung\n\n\nTreffpunkt\nFolgt\n\n\nTeilnehmerzahl\n6 inkl. TL\n\n\n\n&nbs
 p\;
CATEGORIES:SAC Tour,Skitour
END:VEVENT
BEGIN:VTIMEZONE
TZID:Europe/Zurich
X-LIC-LOCATION:Europe/Zurich
BEGIN:STANDARD
DTSTART:20221030T020000
TZOFFSETFROM:+0200
TZOFFSETTO:+0100
TZNAME:CET
END:STANDARD
END:VTIMEZONE
END:VCALENDAR