BEGIN:VCALENDAR
VERSION:2.0
PRODID:-//wp-events-plugin.com//7.2.3.1//EN
TZID:Europe/Zurich
X-WR-TIMEZONE:Europe/Zurich
BEGIN:VEVENT
UID:244@sac-saas.ch
DTSTART;TZID=Europe/Zurich;VALUE=DATE:20240302
DTEND;TZID=Europe/Zurich;VALUE=DATE:20240303
DTSTAMP:20240128T084526Z
URL:https://sac-saas.ch/events/skitour-niwen-westgipfel-anmeldung-ab-02-fe
 bruar-2024/
SUMMARY:Skitour Niwen Westgipfel / Anmeldung ab 02. Februar 2024
DESCRIPTION:&nbsp\;\n\n\n\nAnmeldung möglich ab:\n02. Februar 2024\n\n\nSc
 hwierigkeit\nL+\n\n\nEckdaten\n ↑ 530 Hm  ↓ 1200 Hm -&gt\; 4 h\n\n\n
 Ausrüstung\nkomplette Skitourenausrüstung\n\n\nTreffpunkt\nwird noch bek
 annt gegeben\n\n\nTeilnehmerzahl\n6 inkl. TL\n\n\n\n&nbsp\;
CATEGORIES:SAC Tour,Skitour
END:VEVENT
BEGIN:VTIMEZONE
TZID:Europe/Zurich
X-LIC-LOCATION:Europe/Zurich
BEGIN:STANDARD
DTSTART:20231029T020000
TZOFFSETFROM:+0200
TZOFFSETTO:+0100
TZNAME:CET
END:STANDARD
END:VTIMEZONE
END:VCALENDAR