BEGIN:VCALENDAR
VERSION:2.0
PRODID:-//wp-events-plugin.com//7.2.3.1//EN
TZID:Europe/Zurich
X-WR-TIMEZONE:Europe/Zurich
BEGIN:VEVENT
UID:49@sac-saas.ch
DTSTART;TZID=Europe/Zurich;VALUE=DATE:20230224
DTEND;TZID=Europe/Zurich;VALUE=DATE:20230225
DTSTAMP:20230214T162632Z
URL:https://sac-saas.ch/events/skitour-nach-verhaeltnissen/
SUMMARY:2 Plätze frei-Skitour nach Verhältnissen Unterwallis / Anmeldung 
 ab 24.01.2023
DESCRIPTION:&nbsp\;\n\n\n\nAnmeldung möglich ab:\n24.01.2023\, 07:00\n\n\n
 Schwierigkeit\nZS-\n\n\nEckdaten\n ↑ 1'400 Hm  ↓ 1'400 Hm -&gt\; 6h\
 n\n\nAusrüstung\nSkitourenausrüstung komplett\n\n\nTreffpunkt\nfolgt\n\n
 \nTeilnehmerzahl\n6\n\n\n\n&nbsp\;
CATEGORIES:SAC Tour,Skitour
END:VEVENT
BEGIN:VTIMEZONE
TZID:Europe/Zurich
X-LIC-LOCATION:Europe/Zurich
BEGIN:STANDARD
DTSTART:20221030T020000
TZOFFSETFROM:+0200
TZOFFSETTO:+0100
TZNAME:CET
END:STANDARD
END:VTIMEZONE
END:VCALENDAR