BEGIN:VCALENDAR
VERSION:2.0
PRODID:-//wp-events-plugin.com//7.2.3.1//EN
TZID:Europe/Zurich
X-WR-TIMEZONE:Europe/Zurich
BEGIN:VEVENT
UID:539@sac-saas.ch
DTSTART;TZID=Europe/Zurich;VALUE=DATE:20260322
DTEND;TZID=Europe/Zurich;VALUE=DATE:20260323
DTSTAMP:20260311T100814Z
URL:https://sac-saas.ch/events/skitour-nach-verhaeltnissen-im-goms/
SUMMARY:Skitour nach Verhältnissen im Goms / Anmeldung ab 01.03.2026
DESCRIPTION:&nbsp\;\n\n\n\nAnmeldung ab:\n01.03.2026\n\n\nSchwierigkeit\nWS
 \n\n\nEckdaten\n1'400 hm\n\n\nAusrüstung\nSkitourenausrüstung komplett\n
 \n\nTreffpunkt\nfolgt\n\n\nTeilnehmerzahl\n6 inkl. TL\n\n\n\n&nbsp\;
CATEGORIES:SAC Tour,Skitour
END:VEVENT
BEGIN:VTIMEZONE
TZID:Europe/Zurich
X-LIC-LOCATION:Europe/Zurich
BEGIN:STANDARD
DTSTART:20251026T020000
TZOFFSETFROM:+0200
TZOFFSETTO:+0100
TZNAME:CET
END:STANDARD
END:VTIMEZONE
END:VCALENDAR