BEGIN:VCALENDAR
VERSION:2.0
PRODID:-//wp-events-plugin.com//7.2.3.1//EN
TZID:Europe/Zurich
X-WR-TIMEZONE:Europe/Zurich
BEGIN:VEVENT
UID:394@sac-saas.ch
DTSTART;TZID=Europe/Zurich;VALUE=DATE:20250323
DTEND;TZID=Europe/Zurich;VALUE=DATE:20250324
DTSTAMP:20250311T125701Z
URL:https://sac-saas.ch/events/skitour-nach-verhaeltnissen-im-goms-anmeldu
 ng-ab-01-03-2025/
SUMMARY:Skitour nach Verhältnissen im Goms / Anmeldung ab 01.03.2025
DESCRIPTION:&nbsp\;\n\n\n\nAnmeldung ab:\n01.03.2025\n\n\nSchwierigkeit\nWS
 \n\n\nEckdaten\nHm: +1'400\n\n\nAusrüstung\nSkitourenausrüstung komplett
 \n\n\nTreffpunkt\ntbd\n\n\nTeilnehmerzahl\n6\n\n\n\n&nbsp\;
CATEGORIES:SAC Tour
END:VEVENT
BEGIN:VTIMEZONE
TZID:Europe/Zurich
X-LIC-LOCATION:Europe/Zurich
BEGIN:STANDARD
DTSTART:20241027T020000
TZOFFSETFROM:+0200
TZOFFSETTO:+0100
TZNAME:CET
END:STANDARD
END:VTIMEZONE
END:VCALENDAR