BEGIN:VCALENDAR
VERSION:2.0
PRODID:-//wp-events-plugin.com//7.2.3.1//EN
TZID:Europe/Zurich
X-WR-TIMEZONE:Europe/Zurich
BEGIN:VEVENT
UID:299@sac-saas.ch
DTSTART;TZID=Europe/Zurich;VALUE=DATE:20240316
DTEND;TZID=Europe/Zurich;VALUE=DATE:20240317
DTSTAMP:20240128T091508Z
URL:https://sac-saas.ch/events/skitour-mittaghorn-ab-imfaeld-2024-anmeldun
 g-ab-16-01-24-3/
SUMMARY:Skitour Mittaghorn ab Imfäld 2024 / Anmeldung ab 16.02.24
DESCRIPTION:Text\n\n\n\nAnmeldung möglich ab:\n\n\n\nSchwierigkeit\nZS\n\n
 \nEckdaten\n ↑  ↓ 1700 Hm\n\n\nAusrüstung\n\n\n\nTreffpunkt\n\n\n\n
 Teilnehmerzahl\n\n\n\n\n&nbsp\;
CATEGORIES:SAC Tour,Skitour
END:VEVENT
BEGIN:VTIMEZONE
TZID:Europe/Zurich
X-LIC-LOCATION:Europe/Zurich
BEGIN:STANDARD
DTSTART:20231029T020000
TZOFFSETFROM:+0200
TZOFFSETTO:+0100
TZNAME:CET
END:STANDARD
END:VTIMEZONE
END:VCALENDAR