BEGIN:VCALENDAR
VERSION:2.0
PRODID:-//wp-events-plugin.com//7.2.3.1//EN
TZID:Europe/Zurich
X-WR-TIMEZONE:Europe/Zurich
BEGIN:VEVENT
UID:543@sac-saas.ch
DTSTART;TZID=Europe/Zurich;VALUE=DATE:20251221
DTEND;TZID=Europe/Zurich;VALUE=DATE:20251222
DTSTAMP:20251123T190253Z
URL:https://sac-saas.ch/events/skitour-mauerhorn-anmeldung-ab-21-11-2025/
SUMMARY:Skitour Mauerhorn / Anmeldung ab 21.11.2025
DESCRIPTION:&nbsp\;\n\n\n\nAnmeldung ab:\n21.11.2025\n\n\nSchwierigkeit\nWS
 \n\n\nEckdaten\n1570 hm\n\n\nAusrüstung\nVollständige Skitourenausrüstu
 ng inkl. Harscheisen\n\n\nTreffpunkt\nWird vor der Tour per WhatsApp Grupp
 e kommuniziert\n\n\nTeilnehmerzahl\n6\n\n\n\nSkitour von Ferden auf das Ma
 uerhorn
CATEGORIES:SAC Tour,Skitour
END:VEVENT
BEGIN:VTIMEZONE
TZID:Europe/Zurich
X-LIC-LOCATION:Europe/Zurich
BEGIN:STANDARD
DTSTART:20251026T020000
TZOFFSETFROM:+0200
TZOFFSETTO:+0100
TZNAME:CET
END:STANDARD
END:VTIMEZONE
END:VCALENDAR