BEGIN:VCALENDAR
VERSION:2.0
PRODID:-//wp-events-plugin.com//7.2.3.1//EN
TZID:Europe/Zurich
X-WR-TIMEZONE:Europe/Zurich
BEGIN:VEVENT
UID:440@sac-saas.ch
DTSTART;TZID=Europe/Zurich;VALUE=DATE:20250322
DTEND;TZID=Europe/Zurich;VALUE=DATE:20250323
DTSTAMP:20250203T200758Z
URL:https://sac-saas.ch/events/skitour-maelchgrad-anmeldung-ab-22-02-2025/
SUMMARY:Skitour Mälchgrad / Anmeldung ab 22.02.2025
DESCRIPTION:&nbsp\;\n\n\n\n\n\n\n\nSchwierigkeit\nWS / 3 Std.\n\n\nEckdaten
 \n1000 hm auf und ab\n\n\nAusrüstung\nSkitourenausrüstung komplett\n\n\n
 Treffpunkt\nWird gemeldet\n\n\nTeilnehmerzahl\n8 inkl . TL\n\n\n\n&nbsp\;
CATEGORIES:SAC Tour
END:VEVENT
BEGIN:VTIMEZONE
TZID:Europe/Zurich
X-LIC-LOCATION:Europe/Zurich
BEGIN:STANDARD
DTSTART:20241027T020000
TZOFFSETFROM:+0200
TZOFFSETTO:+0100
TZNAME:CET
END:STANDARD
END:VTIMEZONE
END:VCALENDAR