BEGIN:VCALENDAR
VERSION:2.0
PRODID:-//wp-events-plugin.com//7.2.3.1//EN
TZID:Europe/Zurich
X-WR-TIMEZONE:Europe/Zurich
BEGIN:VEVENT
UID:443@sac-saas.ch
DTSTART;TZID=Europe/Zurich;VALUE=DATE:20250405
DTEND;TZID=Europe/Zurich;VALUE=DATE:20250406
DTSTAMP:20250403T145652Z
URL:https://sac-saas.ch/events/skitour-louwihorn-anmeldung-ab-05-03-2025/
SUMMARY:Abgesagt: Skitour Louwihorn / Anmeldung ab 05.03.2025
DESCRIPTION:&nbsp\;\n\n\n\n\n\n\n\nSchwierigkeit\n\n\n\nEckdaten\n\n\n\nAus
 rüstung\n\n\n\nTreffpunkt\n\n\n\nTeilnehmerzahl\n\n\n\n\n&nbsp\;
CATEGORIES:SAC Tour
END:VEVENT
BEGIN:VTIMEZONE
TZID:Europe/Zurich
X-LIC-LOCATION:Europe/Zurich
BEGIN:DAYLIGHT
DTSTART:20250330T030000
TZOFFSETFROM:+0100
TZOFFSETTO:+0200
TZNAME:CEST
END:DAYLIGHT
END:VTIMEZONE
END:VCALENDAR