BEGIN:VCALENDAR
VERSION:2.0
PRODID:-//wp-events-plugin.com//7.2.3.1//EN
TZID:Europe/Zurich
X-WR-TIMEZONE:Europe/Zurich
BEGIN:VEVENT
UID:365@sac-saas.ch
DTSTART;TZID=Europe/Zurich;VALUE=DATE:20250119
DTEND;TZID=Europe/Zurich;VALUE=DATE:20250120
DTSTAMP:20250104T212336Z
URL:https://sac-saas.ch/events/skitour-les-monts-telliers-anmeldung-ab-04-
 01-2025/
SUMMARY:Skitour Les Monts Telliers/ Anmeldung ab 04.01.2025
DESCRIPTION:&nbsp\;\n\n\n\n\n\n\n\nSchwierigkeit\nWS\n\n\nEckdaten\n1030 HM
  Aufstieg\, 1030 HM Abfahrt\n\n\nAusrüstung\nSkitourenausrüstung komplet
 t\n\n\nTreffpunkt\nwird bekannt gegeben\n\n\nTeilnehmerzahl\n6 inkl TL\n\n
 \n\nVon Bourg-Saint-Bernard (1914 m) zum Nordportal des Strassentunnels (P
 arkplatz) und auf der Passstrasse bis zur Brücke bei Maringo (1978 m)\; h
 ier die Dranse d’Entremont überqueren. Richtung SW zur Alphütte La Pie
 rre (2039 m) und etwas steiler in die Combe de Drône aufsteigen. Der Talb
 oden ist nach SW ausgerichtet und dreht dann in einem rechten Winkel nach 
 NW. Bis auf etwa 2300m durch das Tal. Nun rechts haltend über den breiten
  Rücken und nordwärts in flaches Gelände zwischen Petit und Grand Lé. 
 Von hier weiter nordwärts auf ein weites Flachstück am Fuss des SE-Pfeil
 ers. Diesen rechts umgehen und in die Mulde der E-Flanke. Durch diese Muld
 e über einen letzten Steilhang hinauf\, der zum ENE-Grat führt (Skidepot
 ). Ein letztes luftiges Stück auf dem Grat führt zum Gipfel.
CATEGORIES:SAC Tour
END:VEVENT
BEGIN:VTIMEZONE
TZID:Europe/Zurich
X-LIC-LOCATION:Europe/Zurich
BEGIN:STANDARD
DTSTART:20241027T020000
TZOFFSETFROM:+0200
TZOFFSETTO:+0100
TZNAME:CET
END:STANDARD
END:VTIMEZONE
END:VCALENDAR