BEGIN:VCALENDAR
VERSION:2.0
PRODID:-//wp-events-plugin.com//7.2.3.1//EN
TZID:Europe/Zurich
X-WR-TIMEZONE:Europe/Zurich
BEGIN:VEVENT
UID:284@sac-saas.ch
DTSTART;TZID=Europe/Zurich;VALUE=DATE:20240120
DTEND;TZID=Europe/Zurich;VALUE=DATE:20240121
DTSTAMP:20231212T124504Z
URL:https://sac-saas.ch/events/skitour-les-marecottes-anmeldung-ab-01-02-2
 024-2/
SUMMARY:Skitour Les Marecottes / Anmeldung ab 20.12.2023
DESCRIPTION:Les Marecottes - La Golette - Lac de Salanfe - Salvan\n\n\n\nAn
 meldung möglich ab:\n20.Dez.2023\n\n\nSchwierigkeit\nWS +\n\n\nEckdaten\n
  ↑ 800 Hm ↓1000Hm\n\n\nAusrüstung\n komplette Skitourenausrüstung\
 n\n\nTreffpunkt\nwird bekannt gegeben\n\n\nTeilnehmerzahl\n6 inkl. TL\n\n\
 n\n&nbsp\;
CATEGORIES:SAC Tour
END:VEVENT
BEGIN:VTIMEZONE
TZID:Europe/Zurich
X-LIC-LOCATION:Europe/Zurich
BEGIN:STANDARD
DTSTART:20231029T020000
TZOFFSETFROM:+0200
TZOFFSETTO:+0100
TZNAME:CET
END:STANDARD
END:VTIMEZONE
END:VCALENDAR