BEGIN:VCALENDAR
VERSION:2.0
PRODID:-//wp-events-plugin.com//7.2.3.1//EN
TZID:Europe/Zurich
X-WR-TIMEZONE:Europe/Zurich
BEGIN:VEVENT
UID:360@sac-saas.ch
DTSTART;TZID=Europe/Zurich;VALUE=DATE:20250202
DTEND;TZID=Europe/Zurich;VALUE=DATE:20250203
DTSTAMP:20250121T140820Z
URL:https://sac-saas.ch/events/skitour-le-serac-anmeldung-ab-01-01-2025-2/
SUMMARY:Skitour Le Sérac / Anmeldung ab 01.01.2025
DESCRIPTION:\n 	Skitour von der Sanetsch-Passstrasse zum Le Sérac\n\n\n\n\
 nAnmeldung ab:\n01.01.2025\n\n\nSchwierigkeit\nWS+\n\n\nEckdaten\n1500 hm\
 n\n\nAusrüstung\nvollständige Skitourenausrüstung mit Harscheisen\n\n\n
 Treffpunkt\nwird vor der Tour vereinbart (WhatsApp Gruppe)\n\n\nTeilnehmer
 zahl\n6\n\n\n\n&nbsp\;
CATEGORIES:SAC Tour
END:VEVENT
BEGIN:VTIMEZONE
TZID:Europe/Zurich
X-LIC-LOCATION:Europe/Zurich
BEGIN:STANDARD
DTSTART:20241027T020000
TZOFFSETFROM:+0200
TZOFFSETTO:+0100
TZNAME:CET
END:STANDARD
END:VTIMEZONE
END:VCALENDAR