BEGIN:VCALENDAR
VERSION:2.0
PRODID:-//wp-events-plugin.com//7.2.3.1//EN
TZID:Europe/Zurich
X-WR-TIMEZONE:Europe/Zurich
BEGIN:VEVENT
UID:30@sac-saas.ch
DTSTART;TZID=Europe/Zurich;VALUE=DATE:20230131
DTEND;TZID=Europe/Zurich;VALUE=DATE:20230201
DTSTAMP:20221210T115855Z
URL:https://sac-saas.ch/events/skitour-le-mandelon/
SUMMARY:Skitour Le Mandelon / Anmeldung ab 15.01.2023
DESCRIPTION:&nbsp\;\n\n\n\nAnmeldung möglich ab:\n15.01.2023\, 07:00\n\n\n
 Schwierigkeit\nWS-\n\n\nEckdaten\n ↑ 1000 Hm  ↓ 1000 Hm\n\n\nAusrüs
 tung\nSkitourenausrüstung\n\n\nTreffpunkt\nwird kurz vorher bekannt gegeb
 en\n\n\nTeilnehmerzahl\n6 (inkl. TL)\n\n\n\n&nbsp\;
CATEGORIES:SAC Tour,Skitour
END:VEVENT
BEGIN:VTIMEZONE
TZID:Europe/Zurich
X-LIC-LOCATION:Europe/Zurich
BEGIN:STANDARD
DTSTART:20221030T020000
TZOFFSETFROM:+0200
TZOFFSETTO:+0100
TZNAME:CET
END:STANDARD
END:VTIMEZONE
END:VCALENDAR