BEGIN:VCALENDAR
VERSION:2.0
PRODID:-//wp-events-plugin.com//7.2.3.1//EN
TZID:Europe/Zurich
X-WR-TIMEZONE:Europe/Zurich
BEGIN:VEVENT
UID:391@sac-saas.ch
DTSTART;TZID=Europe/Zurich;VALUE=DATE:20250303
DTEND;TZID=Europe/Zurich;VALUE=DATE:20250304
DTSTAMP:20250128T144227Z
URL:https://sac-saas.ch/events/skitour-klettersteig-traversata/
SUMMARY:Skitour/Klettersteig Traversata Anmeldung ab 03.02.2025
DESCRIPTION:Diese Skitour startet bei der Bergstation Furggsattel. Von da g
 eht es in einer Stunde zum Einstieg des Winterklettersteigs „La Traversa
 ta». Mit aufgebundenen Ski durchsteigt man den Klettersteig dies dauert e
 ine weitere Stunde bis man schliesslich die geschichtsträchtige Bergstati
 on Furggen (3’500 m) erreicht. Zum Schluss heisst es: Ski wieder anschna
 llen und in einer 1’500 m langen Freeride-Abfahrt das italienische Breui
 l-Cervinia erreichen. Immer mit der Südwand des Matterhorns im Rücken.\n
 \n 	Mit aufgebundenen Ski (und allenfalls Steigeisen) in Fels und Eis klet
 tern\n 	Nur für schwindelfreie und trittsichere Alpinisten\n 	Sehr gute S
 kikenntnisse und Skitourenerfahrung vorausgesetzt\n\n\n\n\n\n\n\n\nSchwier
 igkeit\nZS-\n\n\nEckdaten\n\n\n\nAusrüstung\nKlettersteig und Skitourenau
 srüstung\n\n\nTreffpunkt\n08.00 Uhr in Zermatt\n\n\nTeilnehmerzahl\n4 ink
 l. TL\n\n\n\n&nbsp\;
CATEGORIES:SAC Tour
END:VEVENT
BEGIN:VTIMEZONE
TZID:Europe/Zurich
X-LIC-LOCATION:Europe/Zurich
BEGIN:STANDARD
DTSTART:20241027T020000
TZOFFSETFROM:+0200
TZOFFSETTO:+0100
TZNAME:CET
END:STANDARD
END:VTIMEZONE
END:VCALENDAR