BEGIN:VCALENDAR
VERSION:2.0
PRODID:-//wp-events-plugin.com//7.2.3.1//EN
TZID:Europe/Zurich
X-WR-TIMEZONE:Europe/Zurich
BEGIN:VEVENT
UID:234@sac-saas.ch
DTSTART;TZID=Europe/Zurich;VALUE=DATE:20240330
DTEND;TZID=Europe/Zurich;VALUE=DATE:20240331
DTSTAMP:20240327T073034Z
URL:https://sac-saas.ch/events/skitour-jeizinen-anmeldung-ab16-03-2024/
SUMMARY:Skitour Jeizinen / Anmeldung ab16.03.2024
DESCRIPTION:Leider hat sich niemand angemeldet . Die Skitour findet nicht s
 tatt .\n\n\n\nAnmeldung möglich ab:\n16.03.2024\n\n\nSchwierigkeit\nWS\n\
 n\nEckdaten\n+ 1200 -1200\n\n\nAusrüstung\nSkitourenausrüstung kompl.\n\
 n\nTreffpunkt\nSpäter\n\n\nTeilnehmerzahl\n2 TL / 8 TN\n\n\n\n&nbsp\;
CATEGORIES:SAC Tour,Skitour
END:VEVENT
BEGIN:VTIMEZONE
TZID:Europe/Zurich
X-LIC-LOCATION:Europe/Zurich
BEGIN:STANDARD
DTSTART:20231029T020000
TZOFFSETFROM:+0200
TZOFFSETTO:+0100
TZNAME:CET
END:STANDARD
END:VTIMEZONE
END:VCALENDAR