BEGIN:VCALENDAR
VERSION:2.0
PRODID:-//wp-events-plugin.com//7.2.3.1//EN
TZID:Europe/Zurich
X-WR-TIMEZONE:Europe/Zurich
BEGIN:VEVENT
UID:619@sac-saas.ch
DTSTART;TZID=Europe/Zurich;VALUE=DATE:20260315
DTEND;TZID=Europe/Zurich;VALUE=DATE:20260316
DTSTAMP:20260312T200440Z
URL:https://sac-saas.ch/events/skitour-irgillihorn-ab-unners-bord-anmeldun
 g-ab-15-02-2026/
SUMMARY:Skitour Irgillihorn ab Unners Bord / Anmeldung ab 15.02.2026
DESCRIPTION:Absage der Tour\n\nLeider muss ich die Tour auf das Irgilihorn 
 absagen. Auf einer Rekotour am vergangenen Sonntag mussten wir feststellen
 \, dass auf der Strasse vom unteren Bord weg zum teil kein Schnee mehr lag
 . Weiter oben knapp unterhalb des Tschavinersees war der Schneedeckenaufba
 u derart schlecht\, dass wir nur mit grosser Mühe\, mehrmaligem Abrutsche
 n und Glück bis zum See hochkamen. Der Gipfelhang war mit Steinen durchse
 tzt. Die Abfahrt war feinster Plattenpowder\, der so richtig in die Beine 
 und Knie ging! Nach einigen Stürzen weiter unterhalb der Alpe Weira war f
 ür uns klar\, dass es hier leider nicht viel zu holen gab! Zudem sind die
  Wetteraussichten am kommenden Samstag und Sonntag Morgen für diese Regio
 n äusserst schlecht. Sollte der prognostizierte Schnee wirklich eintreffe
 n\, so würde diese Tour nach abklingen der daraus resultierenden Lawineng
 efahrenstufe wieder eine tolle Sache werden. Wir bleiben am Ball und falls
  die Tour wieder lohnend wird\, wird sie neu angegangen.\n\n\n\nAnmeldung 
 ab:\n15.02.2026\n\n\nSchwierigkeit\nWS\n\n\nEckdaten\n↑↓900HM\n\n\nAus
 rüstung\nSkitourenausrüstung komplett\n\n\nTreffpunkt\nDetails folgen\n\
 n\nTeilnehmerzahl\n8 inkl. TL\n\n\n\n&nbsp\;
CATEGORIES:SAC Tour,Skitour
END:VEVENT
BEGIN:VTIMEZONE
TZID:Europe/Zurich
X-LIC-LOCATION:Europe/Zurich
BEGIN:STANDARD
DTSTART:20251026T020000
TZOFFSETFROM:+0200
TZOFFSETTO:+0100
TZNAME:CET
END:STANDARD
END:VTIMEZONE
END:VCALENDAR