BEGIN:VCALENDAR
VERSION:2.0
PRODID:-//wp-events-plugin.com//7.2.3.1//EN
TZID:Europe/Zurich
X-WR-TIMEZONE:Europe/Zurich
BEGIN:VEVENT
UID:439@sac-saas.ch
DTSTART;TZID=Europe/Zurich;VALUE=DATE:20250309
DTEND;TZID=Europe/Zurich;VALUE=DATE:20250310
DTSTAMP:20250306T220020Z
URL:https://sac-saas.ch/events/skitour-irgilihorn-anmeldung-ab-08-02-2025/
SUMMARY:Skitour Irgilihorn / Anmeldung ab 08.02.2025
DESCRIPTION:&nbsp\;\n\n6.3.2025 Da sich nur eine Person angemeldet hat und 
 die Schneeverhältnisse sehr knapp sind sage ich die Tour ab.\n\nDas Irgil
 ihorn ist unser Ziel!\n\nOder besser ein Seitental des Seitentales! Eine a
 bgelegene Region\, die im Sommer wie im Winter von den grossen Touristenma
 ssen verschont bleibt. Wenn die Schneeverhältnisse gut sind\, dann ist da
 s Seitental\, der Seitentäler auch ein Ort des Lichtes. Rund um den Tscha
 vinersee erhebt sich ein Amphitheater und reflektiert das Licht. Ein gross
 er Parabolspiegel\, in dem wir aufsteigen bis zum Irgilihorn. Die Abfahrt 
 findet auf den Aufstiegsspuren statt.\n\nDie Tour wird in gemütlichem Tem
 po abgehalten\, Stoppuhr und Terminplan bleiben zuhause!\n\n&nbsp\;\n\n&nb
 sp\;\n\n\n\n\n\n\n\nSchwierigkeit\nWS\n\n\nEckdaten\nca. 1000 Höhenmeter\
 n\n\nAusrüstung\nSkitourenausrüstung\, SVS\, Sonde\, Schaufel\, Harschei
 sen\, Essen\, Trinken\, Sonnenbrille\n\n\nTreffpunkt\n05:30 Uhr Parkplatz 
 Müra in Visp\n\n\nTeilnehmerzahl\n7 + Leiter\n\n\n\n&nbsp\;
CATEGORIES:SAC Tour
END:VEVENT
BEGIN:VTIMEZONE
TZID:Europe/Zurich
X-LIC-LOCATION:Europe/Zurich
BEGIN:STANDARD
DTSTART:20241027T020000
TZOFFSETFROM:+0200
TZOFFSETTO:+0100
TZNAME:CET
END:STANDARD
END:VTIMEZONE
END:VCALENDAR