BEGIN:VCALENDAR
VERSION:2.0
PRODID:-//wp-events-plugin.com//7.2.3.1//EN
TZID:Europe/Zurich
X-WR-TIMEZONE:Europe/Zurich
BEGIN:VEVENT
UID:48@sac-saas.ch
DTSTART;TZID=Europe/Zurich;VALUE=DATE:20230128
DTEND;TZID=Europe/Zurich;VALUE=DATE:20230129
DTSTAMP:20221210T115427Z
URL:https://sac-saas.ch/events/skitour-im-goms/
SUMMARY:Skitour im Goms / Anmeldung ab 28.12.2022
DESCRIPTION:&nbsp\;\n\n\n\nAnmeldung möglich ab:\n28.12.2022\, 07:00\n\n\n
 Schwierigkeit\nWS+\n\n\nEckdaten\n ↑ 1'000-1'300 Hm  ↓ 1'000-1'300 H
 m -&gt\; 6 h\n\n\nAusrüstung\nSkitourenausrüstung komplett\n\n\nTreffpun
 kt\nfolgt\n\n\nTeilnehmerzahl\n6\n\n\n\n&nbsp\;
CATEGORIES:SAC Tour,Skitour
END:VEVENT
BEGIN:VTIMEZONE
TZID:Europe/Zurich
X-LIC-LOCATION:Europe/Zurich
BEGIN:STANDARD
DTSTART:20221030T020000
TZOFFSETFROM:+0200
TZOFFSETTO:+0100
TZNAME:CET
END:STANDARD
END:VTIMEZONE
END:VCALENDAR