BEGIN:VCALENDAR
VERSION:2.0
PRODID:-//wp-events-plugin.com//7.2.3.1//EN
TZID:Europe/Zurich
X-WR-TIMEZONE:Europe/Zurich
BEGIN:VEVENT
UID:434@sac-saas.ch
DTSTART;TZID=Europe/Zurich;VALUE=DATE:20250201
DTEND;TZID=Europe/Zurich;VALUE=DATE:20250202
DTSTAMP:20241118T155152Z
URL:https://sac-saas.ch/events/skitour-hockenhorn-gitzifurggu-anmeldung-ab
 -01-01-2025/
SUMMARY:Skitour Hockenhorn-Gitzifurggu / Anmeldung ab 01.01.2025
DESCRIPTION:&nbsp\;\n\n\n\n\n\n\n\nSchwierigkeit\n\n\n\nEckdaten\n\n\n\nAus
 rüstung\n\n\n\nTreffpunkt\n\n\n\nTeilnehmerzahl\n\n\n\n\n&nbsp\;
CATEGORIES:SAC Tour
END:VEVENT
BEGIN:VTIMEZONE
TZID:Europe/Zurich
X-LIC-LOCATION:Europe/Zurich
BEGIN:STANDARD
DTSTART:20241027T020000
TZOFFSETFROM:+0200
TZOFFSETTO:+0100
TZNAME:CET
END:STANDARD
END:VTIMEZONE
END:VCALENDAR