BEGIN:VCALENDAR
VERSION:2.0
PRODID:-//wp-events-plugin.com//7.2.3.1//EN
TZID:Europe/Zurich
X-WR-TIMEZONE:Europe/Zurich
BEGIN:VEVENT
UID:111@sac-saas.ch
DTSTART;TZID=Europe/Zurich;VALUE=DATE:20230325
DTEND;TZID=Europe/Zurich;VALUE=DATE:20230326
DTSTAMP:20230121T195438Z
URL:https://sac-saas.ch/events/skitour-hireli/
SUMMARY:Skitour Hireli / Anmeldung ab 04.03.2023
DESCRIPTION:&nbsp\;\n\n\n\nAnmeldung möglich ab:\n04.03.2023\, 07:00\n\n\n
 Schwierigkeit\nWS+\n\n\nEckdaten\n ↑ 1200 Hm  ↓ 1200 Hm\n\n\nAusrüs
 tung\nTourenausrüstung komplett\n\n\nTreffpunkt\nSpäter\n\n\nTeilnehmerz
 ahl\n8\n\n\n\nJe nach Schnee gibt es Änderungen Michi und Mario
CATEGORIES:SAC Tour,Skitour
END:VEVENT
BEGIN:VTIMEZONE
TZID:Europe/Zurich
X-LIC-LOCATION:Europe/Zurich
BEGIN:STANDARD
DTSTART:20221030T020000
TZOFFSETFROM:+0200
TZOFFSETTO:+0100
TZNAME:CET
END:STANDARD
END:VTIMEZONE
END:VCALENDAR