BEGIN:VCALENDAR
VERSION:2.0
PRODID:-//wp-events-plugin.com//7.2.3.1//EN
TZID:Europe/Zurich
X-WR-TIMEZONE:Europe/Zurich
BEGIN:VEVENT
UID:115@sac-saas.ch
DTSTART;TZID=Europe/Zurich;VALUE=DATE:20230404
DTEND;TZID=Europe/Zurich;VALUE=DATE:20230405
DTSTAMP:20230301T093621Z
URL:https://sac-saas.ch/events/skitour-haengendegletscher/
SUMMARY:Skitour Hängendegletscher / Anmeldung ab 05.03.2023
DESCRIPTION:&nbsp\;\n\n\n\nAnmeldung möglich ab:\n05.03.2023\, 07:00\n\n\n
 Schwierigkeit\nWS+\n\n\nAufstieg\nAufstieg ca.200Hm 1.5-2H /Abfahrt 1700Hm
 \n\n\nAusrüstung\nGurt/Karabiner/Schlinge oder Rebschnur/Tourenausrüstun
 g\n\n\nTreffpunkt\nTalstation 3S Bahn Saas Fee\n\n\nTeilnehmerzahl\n\n6Tei
 lnehmer 1Tl und 1Seilführer\n\n\n\nWir fahren mit ÖV nach Saas Fee.\n\nZ
 uerst fahren mit der Metro bis zum Stollen Fenster .\n\nQueren den Gletsch
 er und steigen Richtung Fluchthorn auf.\n\nAbfahrt zum Stausee Mattmark bi
 s nach Almagell.\n\nHeimfahrt mit ÖV ab Almagell.\n\n&nbsp\;
CATEGORIES:SAC Tour,Skitour
END:VEVENT
BEGIN:VTIMEZONE
TZID:Europe/Zurich
X-LIC-LOCATION:Europe/Zurich
BEGIN:DAYLIGHT
DTSTART:20230326T030000
TZOFFSETFROM:+0100
TZOFFSETTO:+0200
TZNAME:CEST
END:DAYLIGHT
END:VTIMEZONE
END:VCALENDAR