BEGIN:VCALENDAR
VERSION:2.0
PRODID:-//wp-events-plugin.com//7.2.3.1//EN
TZID:Europe/Zurich
X-WR-TIMEZONE:Europe/Zurich
BEGIN:VEVENT
UID:114@sac-saas.ch
DTSTART;TZID=Europe/Zurich;VALUE=DATE:20230402
DTEND;TZID=Europe/Zurich;VALUE=DATE:20230403
DTSTAMP:20230330T062141Z
URL:https://sac-saas.ch/events/skitour-gruenberghorn/
SUMMARY:Skitour Grünberghorn / Anmeldung ab 20.03.2023
DESCRIPTION:Achtung:\n\nDie Tour muss ich leider absagen. Das Wetter und di
 e Verhältnisse sind für Sonntag einfach zu schlecht. Falls es irgendwie 
 geht wird die Tour  in diesem Frühling nochmals durchgeführt.\n\n\n\nAn
 meldung möglich ab:\n20.03.2023\, 07:00\n\n\nSchwierigkeit\nLeicht\n\n\nE
 ckdaten\n ↑1200 Hm  ↓ 1200 Hm -&gt\; x h\n\n\nAusrüstung\nSkitouren
 ausrüsung mit Gstältli für Gletscher\n\n\nTreffpunkt\n\n\n\nTeilnehmerz
 ahl\n6\n\n\n\n&nbsp\;
CATEGORIES:SAC Tour
END:VEVENT
BEGIN:VTIMEZONE
TZID:Europe/Zurich
X-LIC-LOCATION:Europe/Zurich
BEGIN:DAYLIGHT
DTSTART:20230326T030000
TZOFFSETFROM:+0100
TZOFFSETTO:+0200
TZNAME:CEST
END:DAYLIGHT
END:VTIMEZONE
END:VCALENDAR