BEGIN:VCALENDAR
VERSION:2.0
PRODID:-//wp-events-plugin.com//7.2.3.1//EN
TZID:Europe/Zurich
X-WR-TIMEZONE:Europe/Zurich
BEGIN:VEVENT
UID:444@sac-saas.ch
DTSTART;TZID=Europe/Zurich;VALUE=DATE:20250420
DTEND;TZID=Europe/Zurich;VALUE=DATE:20250421
DTSTAMP:20250419T070813Z
URL:https://sac-saas.ch/events/skitour-gruenberghorn-anmeldung-ab-20-03-20
 25/
SUMMARY:Abgesagt - Skitour Grünberghorn / Anmeldung ab 20.03.2025
DESCRIPTION:Muss diese Tour aus privaten Gründen absagen. Das Wetter hat m
 ir einen Strich durch die Rechnung gezogen.\n\n\n\n\n\n\n\nSchwierigkeit\n
 \n\n\nEckdaten\n\n\n\nAusrüstung\n\n\n\nTreffpunkt\n\n\n\nTeilnehmerzahl\
 n\n\n\n\n&nbsp\;
CATEGORIES:SAC Tour
END:VEVENT
BEGIN:VTIMEZONE
TZID:Europe/Zurich
X-LIC-LOCATION:Europe/Zurich
BEGIN:DAYLIGHT
DTSTART:20250330T030000
TZOFFSETFROM:+0100
TZOFFSETTO:+0200
TZNAME:CEST
END:DAYLIGHT
END:VTIMEZONE
END:VCALENDAR