BEGIN:VCALENDAR
VERSION:2.0
PRODID:-//wp-events-plugin.com//7.2.3.1//EN
TZID:Europe/Zurich
X-WR-TIMEZONE:Europe/Zurich
BEGIN:VEVENT
UID:544@sac-saas.ch
DTSTART;TZID=Europe/Zurich;VALUE=DATE:20260104
DTEND;TZID=Europe/Zurich;VALUE=DATE:20260105
DTSTAMP:20251123T190230Z
URL:https://sac-saas.ch/events/skitour-grosses-schinhorn-anmeldung-ab-04-1
 2-2025/
SUMMARY:Skitour Grosses  Schinhorn / Anmeldung ab 04.12.2025
DESCRIPTION:&nbsp\;\n\n\n\nAnmeldung ab:\n04.12.2025\n\n\nSchwierigkeit\nZS
 \n\n\nEckdaten\n1430 hm\n\n\nAusrüstung\nVollständige Skitourenausrüstu
 ng inkl. Harscheisen\n\n\nTreffpunkt\nWird vor der Tour per WhatsApp Grupp
 e kommuniziert\n\n\nTeilnehmerzahl\n6\n\n\n\nSkitour von Fäld im Binntal 
 auf das Grosse Schinhorn
CATEGORIES:SAC Tour,Skitour
END:VEVENT
BEGIN:VTIMEZONE
TZID:Europe/Zurich
X-LIC-LOCATION:Europe/Zurich
BEGIN:STANDARD
DTSTART:20251026T020000
TZOFFSETFROM:+0200
TZOFFSETTO:+0100
TZNAME:CET
END:STANDARD
END:VTIMEZONE
END:VCALENDAR