BEGIN:VCALENDAR
VERSION:2.0
PRODID:-//wp-events-plugin.com//7.2.3.1//EN
TZID:Europe/Zurich
X-WR-TIMEZONE:Europe/Zurich
BEGIN:VEVENT
UID:395@sac-saas.ch
DTSTART;TZID=Europe/Zurich;VALUE=DATE:20250413
DTEND;TZID=Europe/Zurich;VALUE=DATE:20250414
DTSTAMP:20250414T150020Z
URL:https://sac-saas.ch/events/skitour-griessernuhorn-2970-m-simplon-anmel
 dung-ab-05-03-2025/
SUMMARY:Verschoben  - Skitour Griessernuhorn 2970 m \, Simplon / Anmeldung 
 ab 27.03.
DESCRIPTION:&nbsp\;\n\n\n\nAnmeldung ab:\n27.03.2025\n\n\nSchwierigkeit\nZS
  +\n\n\nEckdaten\n1400 hm\n\n\nAusrüstung\nSkitourenausrüstung Klettergu
 rt\, Steigeisen\, Pickel\, Helm\, Harscheisen\, Kopflampe\n\n\nTreffpunkt\
 nSimplonpass 05.00 Uhr\n\n\nTeilnehmerzahl\n\n3\n\n\n\nTour abgesagt\, weg
 en dem Wetter
CATEGORIES:SAC Tour
END:VEVENT
BEGIN:VTIMEZONE
TZID:Europe/Zurich
X-LIC-LOCATION:Europe/Zurich
BEGIN:DAYLIGHT
DTSTART:20250330T030000
TZOFFSETFROM:+0100
TZOFFSETTO:+0200
TZNAME:CEST
END:DAYLIGHT
END:VTIMEZONE
END:VCALENDAR